Workbook

Sheet Master Mahasiswa
A1: No | B1: NIM | C1: Nama Mahasiswa | D1: Jurusan | E1: Program Studi | F1: Jenjang | G1: Semester | H1: Dosen PA | I1: Status
A2: 1
A3: 2
A4: 3
A5: 4
A6: 5
A7: 6
A8: 7
A9: 8
A10: 9
A11: 10
A12: 11
A13: 12
... A501: 500

Sheet Portofolio Prestasi
A1: No | B1: NIM | C1: Nama | D1: Jenis Prestasi | E1: Kategori | F1: Tingkat | G1: Tahun | H1: Bukti/Sertifikat | I1: Keterangan
A2: 1
A3: 2
A4: 3
A5: 4
A6: 5
A7: 6
A8: 7
A9: 8
A10: 9
A11: 10
A12: 11
A13: 12
... A501: 500

Sheet Penilaian Dosen
A1: No | B1: NIM | C1: Nama | D1: Prodi | E1: Indikator | F1: Skor 1-5 | G1: Bobot | H1: Nilai Bobot | I1: Bukti Kinerja | J1: Penilai | K1: Periode
E2: Prestasi Akademik | G2: 30 | H2: =ROUND(F2*G2/5,2) -> 0
E3: Kompetensi Profesional Kesehatan | G3: 20 | H3: =ROUND(F3*G3/5,2) -> 0
E4: Karakter dan Integritas | G4: 20 | H4: =ROUND(F4*G4/5,2) -> 0
E5: Kepemimpinan dan Organisasi | G5: 15 | H5: =ROUND(F5*G5/5,2) -> 0
E6: Inovasi dan Prestasi | G6: 10 | H6: =ROUND(F6*G6/5,2) -> 0
E7: Kontribusi Sosial | G7: 5 | H7: =ROUND(F7*G7/5,2) -> 0

Sheet Rekap Ranking
A1: No | B1: NIM | C1: Nama | D1: Jurusan | E1: Prodi | F1: Nilai Akhir | G1: Predikat | H1: Ranking
A2: 1 | F2: =IF(B2="","",SUMIF('Penilaian Dosen'!B:B,B2,'Penilaian Dosen'!H:H)) | G2: =IF(F2="","",IF(F2>=90,"Mahasiswa Performance Terbaik",IF(F2>=80,"Sangat Baik",IF(F2>=70,"Baik","Pembinaan")))) | H2: =IF(F2="","",RANK(F2,F:F,0))
A3: 2 | F3: =IF(B3="","",SUMIF('Penilaian Dosen'!B:B,B3,'Penilaian Dosen'!H:H)) | G3: =IF(F3="","",IF(F3>=90,"Mahasiswa Performance Terbaik",IF(F3>=80,"Sangat Baik",IF(F3>=70,"Baik","Pembinaan")))) | H3: =IF(F3="","",RANK(F3,F:F,0))
A4: 3 | F4: =IF(B4="","",SUMIF('Penilaian Dosen'!B:B,B4,'Penilaian Dosen'!H:H)) | G4: =IF(F4="","",IF(F4>=90,"Mahasiswa Performance Terbaik",IF(F4>=80,"Sangat Baik",IF(F4>=70,"Baik","Pembinaan")))) | H4: =IF(F4="","",RANK(F4,F:F,0))
A5: 4 | F5: =IF(B5="","",SUMIF('Penilaian Dosen'!B:B,B5,'Penilaian Dosen'!H:H)) | G5: =IF(F5="","",IF(F5>=90,"Mahasiswa Performance Terbaik",IF(F5>=80,"Sangat Baik",IF(F5>=70,"Baik","Pembinaan")))) | H5: =IF(F5="","",RANK(F5,F:F,0))
A6: 5 | F6: =IF(B6="","",SUMIF('Penilaian Dosen'!B:B,B6,'Penilaian Dosen'!H:H)) | G6: =IF(F6="","",IF(F6>=90,"Mahasiswa Performance Terbaik",IF(F6>=80,"Sangat Baik",IF(F6>=70,"Baik","Pembinaan")))) | H6: =IF(F6="","",RANK(F6,F:F,0))
A7: 6 | F7: =IF(B7="","",SUMIF('Penilaian Dosen'!B:B,B7,'Penilaian Dosen'!H:H)) | G7: =IF(F7="","",IF(F7>=90,"Mahasiswa Performance Terbaik",IF(F7>=80,"Sangat Baik",IF(F7>=70,"Baik","Pembinaan")))) | H7: =IF(F7="","",RANK(F7,F:F,0))
A8: 7 | F8: =IF(B8="","",SUMIF('Penilaian Dosen'!B:B,B8,'Penilaian Dosen'!H:H)) | G8: =IF(F8="","",IF(F8>=90,"Mahasiswa Performance Terbaik",IF(F8>=80,"Sangat Baik",IF(F8>=70,"Baik","Pembinaan")))) | H8: =IF(F8="","",RANK(F8,F:F,0))
A9: 8 | F9: =IF(B9="","",SUMIF('Penilaian Dosen'!B:B,B9,'Penilaian Dosen'!H:H)) | G9: =IF(F9="","",IF(F9>=90,"Mahasiswa Performance Terbaik",IF(F9>=80,"Sangat Baik",IF(F9>=70,"Baik","Pembinaan")))) | H9: =IF(F9="","",RANK(F9,F:F,0))
A10: 9 | F10: =IF(B10="","",SUMIF('Penilaian Dosen'!B:B,B10,'Penilaian Dosen'!H:H)) | G10: =IF(F10="","",IF(F10>=90,"Mahasiswa Performance Terbaik",IF(F10>=80,"Sangat Baik",IF(F10>=70,"Baik","Pembinaan")))) | H10: =IF(F10="","",RANK(F10,F:F,0))
A11: 10 | F11: =IF(B11="","",SUMIF('Penilaian Dosen'!B:B,B11,'Penilaian Dosen'!H:H)) | G11: =IF(F11="","",IF(F11>=90,"Mahasiswa Performance Terbaik",IF(F11>=80,"Sangat Baik",IF(F11>=70,"Baik","Pembinaan")))) | H11: =IF(F11="","",RANK(F11,F:F,0))
A12: 11 | F12: =IF(B12="","",SUMIF('Penilaian Dosen'!B:B,B12,'Penilaian Dosen'!H:H)) | G12: =IF(F12="","",IF(F12>=90,"Mahasiswa Performance Terbaik",IF(F12>=80,"Sangat Baik",IF(F12>=70,"Baik","Pembinaan")))) | H12: =IF(F12="","",RANK(F12,F:F,0))
A13: 12 | F13: =IF(B13="","",SUMIF('Penilaian Dosen'!B:B,B13,'Penilaian Dosen'!H:H)) | G13: =IF(F13="","",IF(F13>=90,"Mahasiswa Performance Terbaik",IF(F13>=80,"Sangat Baik",IF(F13>=70,"Baik","Pembinaan")))) | H13: =IF(F13="","",RANK(F13,F:F,0))
... A501: 500 | F501: =IF(B501="","",SUMIF('Penilaian Dosen'!B:B,B501,'Penilaian Dosen'!H:H)) | G501: =IF(F501="","",IF(F501>=90,"Mahasiswa Performance Terbaik",IF(F501>=80,"Sangat Baik",IF(F501>=70,"Baik","Pembinaan")))) | H501: =IF(F501="","",RANK(F501,F:F,0))

Sheet Dashboard Direktur
A1: DASHBOARD e-PERFORMANCE MAHASISWA
A2: Indikator | B2: Nilai
A3: Jumlah Mahasiswa Dinilai | B3: =COUNTA('Rekap Ranking'!B2:B501) -> 0
A4: Rata-rata Nilai | B4: =ROUND(AVERAGE('Rekap Ranking'!F2:F501),2) -> #DIV/0!
A5: Mahasiswa Performance Terbaik | B5: =COUNTIF('Rekap Ranking'!G:G,"Mahasiswa Performance Terbaik") -> 0
A7: Distribusi Predikat | B7: Jumlah
A8: Mahasiswa Performance Terbaik | B8: =COUNTIF('Rekap Ranking'!G:G,A8) -> 0
A9: Sangat Baik | B9: =COUNTIF('Rekap Ranking'!G:G,A9) -> 0
A10: Baik | B10: =COUNTIF('Rekap Ranking'!G:G,A10) -> 0
A11: Pembinaan | B11: =COUNTIF('Rekap Ranking'!G:G,A11) -> 0
A15: TOP 10 MAHASISWA PERFORMANCE TERBAIK
A16: Ranking | B16: Nama | C16: Prodi | D16: Nilai
A17: 1 | B17: =IFERROR(INDEX('Rekap Ranking'!C:C,MATCH(A17,'Rekap Ranking'!H:H,0)),"") | C17: =IFERROR(INDEX('Rekap Ranking'!E:E,MATCH(A17,'Rekap Ranking'!H:H,0)),"") | D17: =IFERROR(INDEX('Rekap Ranking'!F:F,MATCH(A17,'Rekap Ranking'!H:H,0)),"")
A18: 2 | B18: =IFERROR(INDEX('Rekap Ranking'!C:C,MATCH(A18,'Rekap Ranking'!H:H,0)),"") | C18: =IFERROR(INDEX('Rekap Ranking'!E:E,MATCH(A18,'Rekap Ranking'!H:H,0)),"") | D18: =IFERROR(INDEX('Rekap Ranking'!F:F,MATCH(A18,'Rekap Ranking'!H:H,0)),"")
A19: 3 | B19: =IFERROR(INDEX('Rekap Ranking'!C:C,MATCH(A19,'Rekap Ranking'!H:H,0)),"") | C19: =IFERROR(INDEX('Rekap Ranking'!E:E,MATCH(A19,'Rekap Ranking'!H:H,0)),"") | D19: =IFERROR(INDEX('Rekap Ranking'!F:F,MATCH(A19,'Rekap Ranking'!H:H,0)),"")
A20: 4 | B20: =IFERROR(INDEX('Rekap Ranking'!C:C,MATCH(A20,'Rekap Ranking'!H:H,0)),"") | C20: =IFERROR(INDEX('Rekap Ranking'!E:E,MATCH(A20,'Rekap Ranking'!H:H,0)),"") | D20: =IFERROR(INDEX('Rekap Ranking'!F:F,MATCH(A20,'Rekap Ranking'!H:H,0)),"")
A21: 5 | B21: =IFERROR(INDEX('Rekap Ranking'!C:C,MATCH(A21,'Rekap Ranking'!H:H,0)),"") | C21: =IFERROR(INDEX('Rekap Ranking'!E:E,MATCH(A21,'Rekap Ranking'!H:H,0)),"") | D21: =IFERROR(INDEX('Rekap Ranking'!F:F,MATCH(A21,'Rekap Ranking'!H:H,0)),"")
A22: 6 | B22: =IFERROR(INDEX('Rekap Ranking'!C:C,MATCH(A22,'Rekap Ranking'!H:H,0)),"") | C22: =IFERROR(INDEX('Rekap Ranking'!E:E,MATCH(A22,'Rekap Ranking'!H:H,0)),"") | D22: =IFERROR(INDEX('Rekap Ranking'!F:F,MATCH(A22,'Rekap Ranking'!H:H,0)),"")
A23: 7 | B23: =IFERROR(INDEX('Rekap Ranking'!C:C,MATCH(A23,'Rekap Ranking'!H:H,0)),"") | C23: =IFERROR(INDEX('Rekap Ranking'!E:E,MATCH(A23,'Rekap Ranking'!H:H,0)),"") | D23: =IFERROR(INDEX('Rekap Ranking'!F:F,MATCH(A23,'Rekap Ranking'!H:H,0)),"")
A24: 8 | B24: =IFERROR(INDEX('Rekap Ranking'!C:C,MATCH(A24,'Rekap Ranking'!H:H,0)),"") | C24: =IFERROR(INDEX('Rekap Ranking'!E:E,MATCH(A24,'Rekap Ranking'!H:H,0)),"") | D24: =IFERROR(INDEX('Rekap Ranking'!F:F,MATCH(A24,'Rekap Ranking'!H:H,0)),"")
A25: 9 | B25: =IFERROR(INDEX('Rekap Ranking'!C:C,MATCH(A25,'Rekap Ranking'!H:H,0)),"") | C25: =IFERROR(INDEX('Rekap Ranking'!E:E,MATCH(A25,'Rekap Ranking'!H:H,0)),"") | D25: =IFERROR(INDEX('Rekap Ranking'!F:F,MATCH(A25,'Rekap Ranking'!H:H,0)),"")
A26: 10 | B26: =IFERROR(INDEX('Rekap Ranking'!C:C,MATCH(A26,'Rekap Ranking'!H:H,0)),"") | C26: =IFERROR(INDEX('Rekap Ranking'!E:E,MATCH(A26,'Rekap Ranking'!H:H,0)),"") | D26: =IFERROR(INDEX('Rekap Ranking'!F:F,MATCH(A26,'Rekap Ranking'!H:H,0)),"")

Sheet Berita Acara
A1: BERITA ACARA PENETAPAN MAHASISWA PERFORMANCE TERBAIK
A2: POLTEKKES KEMENKES SEMARANG
A4: Periode Triwulan:
A6: No | B6: Nama | C6: NIM | D6: Prodi | E6: Nilai | F6: Predikat
A7: 1 | B7: =IFERROR(INDEX('Rekap Ranking'!C:C,MATCH(A7,'Rekap Ranking'!H:H,0)),"") | C7: =IFERROR(INDEX('Rekap Ranking'!B:B,MATCH(A7,'Rekap Ranking'!H:H,0)),"") | D7: =IFERROR(INDEX('Rekap Ranking'!E:E,MATCH(A7,'Rekap Ranking'!H:H,0)),"") | E7: =IFERROR(INDEX('Rekap Ranking'!F:F,MATCH(A7,'Rekap Ranking'!H:H,0)),"") | F7: =IFERROR(INDEX('Rekap Ranking'!G:G,MATCH(A7,'Rekap Ranking'!H:H,0)),"")
A8: 2 | B8: =IFERROR(INDEX('Rekap Ranking'!C:C,MATCH(A8,'Rekap Ranking'!H:H,0)),"") | C8: =IFERROR(INDEX('Rekap Ranking'!B:B,MATCH(A8,'Rekap Ranking'!H:H,0)),"") | D8: =IFERROR(INDEX('Rekap Ranking'!E:E,MATCH(A8,'Rekap Ranking'!H:H,0)),"") | E8: =IFERROR(INDEX('Rekap Ranking'!F:F,MATCH(A8,'Rekap Ranking'!H:H,0)),"") | F8: =IFERROR(INDEX('Rekap Ranking'!G:G,MATCH(A8,'Rekap Ranking'!H:H,0)),"")
A9: 3 | B9: =IFERROR(INDEX('Rekap Ranking'!C:C,MATCH(A9,'Rekap Ranking'!H:H,0)),"") | C9: =IFERROR(INDEX('Rekap Ranking'!B:B,MATCH(A9,'Rekap Ranking'!H:H,0)),"") | D9: =IFERROR(INDEX('Rekap Ranking'!E:E,MATCH(A9,'Rekap Ranking'!H:H,0)),"") | E9: =IFERROR(INDEX('Rekap Ranking'!F:F,MATCH(A9,'Rekap Ranking'!H:H,0)),"") | F9: =IFERROR(INDEX('Rekap Ranking'!G:G,MATCH(A9,'Rekap Ranking'!H:H,0)),"")
A10: 4 | B10: =IFERROR(INDEX('Rekap Ranking'!C:C,MATCH(A10,'Rekap Ranking'!H:H,0)),"") | C10: =IFERROR(INDEX('Rekap Ranking'!B:B,MATCH(A10,'Rekap Ranking'!H:H,0)),"") | D10: =IFERROR(INDEX('Rekap Ranking'!E:E,MATCH(A10,'Rekap Ranking'!H:H,0)),"") | E10: =IFERROR(INDEX('Rekap Ranking'!F:F,MATCH(A10,'Rekap Ranking'!H:H,0)),"") | F10: =IFERROR(INDEX('Rekap Ranking'!G:G,MATCH(A10,'Rekap Ranking'!H:H,0)),"")
A11: 5 | B11: =IFERROR(INDEX('Rekap Ranking'!C:C,MATCH(A11,'Rekap Ranking'!H:H,0)),"") | C11: =IFERROR(INDEX('Rekap Ranking'!B:B,MATCH(A11,'Rekap Ranking'!H:H,0)),"") | D11: =IFERROR(INDEX('Rekap Ranking'!E:E,MATCH(A11,'Rekap Ranking'!H:H,0)),"") | E11: =IFERROR(INDEX('Rekap Ranking'!F:F,MATCH(A11,'Rekap Ranking'!H:H,0)),"") | F11: =IFERROR(INDEX('Rekap Ranking'!G:G,MATCH(A11,'Rekap Ranking'!H:H,0)),"")
A12: 6 | B12: =IFERROR(INDEX('Rekap Ranking'!C:C,MATCH(A12,'Rekap Ranking'!H:H,0)),"") | C12: =IFERROR(INDEX('Rekap Ranking'!B:B,MATCH(A12,'Rekap Ranking'!H:H,0)),"") | D12: =IFERROR(INDEX('Rekap Ranking'!E:E,MATCH(A12,'Rekap Ranking'!H:H,0)),"") | E12: =IFERROR(INDEX('Rekap Ranking'!F:F,MATCH(A12,'Rekap Ranking'!H:H,0)),"") | F12: =IFERROR(INDEX('Rekap Ranking'!G:G,MATCH(A12,'Rekap Ranking'!H:H,0)),"")
A13: 7 | B13: =IFERROR(INDEX('Rekap Ranking'!C:C,MATCH(A13,'Rekap Ranking'!H:H,0)),"") | C13: =IFERROR(INDEX('Rekap Ranking'!B:B,MATCH(A13,'Rekap Ranking'!H:H,0)),"") | D13: =IFERROR(INDEX('Rekap Ranking'!E:E,MATCH(A13,'Rekap Ranking'!H:H,0)),"") | E13: =IFERROR(INDEX('Rekap Ranking'!F:F,MATCH(A13,'Rekap Ranking'!H:H,0)),"") | F13: =IFERROR(INDEX('Rekap Ranking'!G:G,MATCH(A13,'Rekap Ranking'!H:H,0)),"")
A14: 8 | B14: =IFERROR(INDEX('Rekap Ranking'!C:C,MATCH(A14,'Rekap Ranking'!H:H,0)),"") | C14: =IFERROR(INDEX('Rekap Ranking'!B:B,MATCH(A14,'Rekap Ranking'!H:H,0)),"") | D14: =IFERROR(INDEX('Rekap Ranking'!E:E,MATCH(A14,'Rekap Ranking'!H:H,0)),"") | E14: =IFERROR(INDEX('Rekap Ranking'!F:F,MATCH(A14,'Rekap Ranking'!H:H,0)),"") | F14: =IFERROR(INDEX('Rekap Ranking'!G:G,MATCH(A14,'Rekap Ranking'!H:H,0)),"")
A15: 9 | B15: =IFERROR(INDEX('Rekap Ranking'!C:C,MATCH(A15,'Rekap Ranking'!H:H,0)),"") | C15: =IFERROR(INDEX('Rekap Ranking'!B:B,MATCH(A15,'Rekap Ranking'!H:H,0)),"") | D15: =IFERROR(INDEX('Rekap Ranking'!E:E,MATCH(A15,'Rekap Ranking'!H:H,0)),"") | E15: =IFERROR(INDEX('Rekap Ranking'!F:F,MATCH(A15,'Rekap Ranking'!H:H,0)),"") | F15: =IFERROR(INDEX('Rekap Ranking'!G:G,MATCH(A15,'Rekap Ranking'!H:H,0)),"")
A16: 10 | B16: =IFERROR(INDEX('Rekap Ranking'!C:C,MATCH(A16,'Rekap Ranking'!H:H,0)),"") | C16: =IFERROR(INDEX('Rekap Ranking'!B:B,MATCH(A16,'Rekap Ranking'!H:H,0)),"") | D16: =IFERROR(INDEX('Rekap Ranking'!E:E,MATCH(A16,'Rekap Ranking'!H:H,0)),"") | E16: =IFERROR(INDEX('Rekap Ranking'!F:F,MATCH(A16,'Rekap Ranking'!H:H,0)),"") | F16: =IFERROR(INDEX('Rekap Ranking'!G:G,MATCH(A16,'Rekap Ranking'!H:H,0)),"")
