Workbook

Sheet Master Pegawai
A1: No | B1: NIP | C1: Nama Pegawai | D1: Jabatan | E1: Unit Direktorat | F1: Atasan Langsung | G1: Status Pegawai
A2: 1
A3: 2
A4: 3
A5: 4
A6: 5
A7: 6
A8: 7
A9: 8
A10: 9
A11: 10
A12: 11
A13: 12
... A201: 200

Sheet Form Penilaian
A1: No | B1: NIP | C1: Nama | D1: Jabatan | E1: Unit | F1: Indikator Kinerja | G1: Skor 1-5 | H1: Bobot (%) | I1: Nilai Bobot | J1: Bukti Kinerja | K1: Catatan Atasan | L1: Periode Penilaian
A2: 1 | F2: Kepemimpinan dan Tata Kelola Unit | H2: 25 | I2: =ROUND(G2*H2/5,2) -> 0
A3: 2 | F3: Pencapaian Kinerja dan Target Organisasi | H3: 25 | I3: =ROUND(G3*H3/5,2) -> 0
A4: 3 | F4: Mutu dan Inovasi Layanan | H4: 20 | I4: =ROUND(G4*H4/5,2) -> 0
A5: 4 | F5: Profesionalisme dan Budaya Organisasi | H5: 20 | I5: =ROUND(G5*H5/5,2) -> 0
A6: 5 | F6: Integritas dan Pelayanan Publik | H6: 10 | I6: =ROUND(G6*H6/5,2) -> 0

Sheet Rekap Kinerja
A1: No | B1: NIP | C1: Nama | D1: Unit | E1: Nilai Akhir | F1: Predikat | G1: Ranking
A2: 1 | E2: =IF(B2="","",SUMIF('Form Penilaian'!B:B,B2,'Form Penilaian'!I:I)) | F2: =IF(E2="","",IF(E2>=90,"Kinerja Terbaik",IF(E2>=80,"Sangat Baik",IF(E2>=70,"Baik","Perlu Pembinaan")))) | G2: =IF(E2="","",RANK(E2,E:E,0))
A3: 2 | E3: =IF(B3="","",SUMIF('Form Penilaian'!B:B,B3,'Form Penilaian'!I:I)) | F3: =IF(E3="","",IF(E3>=90,"Kinerja Terbaik",IF(E3>=80,"Sangat Baik",IF(E3>=70,"Baik","Perlu Pembinaan")))) | G3: =IF(E3="","",RANK(E3,E:E,0))
A4: 3 | E4: =IF(B4="","",SUMIF('Form Penilaian'!B:B,B4,'Form Penilaian'!I:I)) | F4: =IF(E4="","",IF(E4>=90,"Kinerja Terbaik",IF(E4>=80,"Sangat Baik",IF(E4>=70,"Baik","Perlu Pembinaan")))) | G4: =IF(E4="","",RANK(E4,E:E,0))
A5: 4 | E5: =IF(B5="","",SUMIF('Form Penilaian'!B:B,B5,'Form Penilaian'!I:I)) | F5: =IF(E5="","",IF(E5>=90,"Kinerja Terbaik",IF(E5>=80,"Sangat Baik",IF(E5>=70,"Baik","Perlu Pembinaan")))) | G5: =IF(E5="","",RANK(E5,E:E,0))
A6: 5 | E6: =IF(B6="","",SUMIF('Form Penilaian'!B:B,B6,'Form Penilaian'!I:I)) | F6: =IF(E6="","",IF(E6>=90,"Kinerja Terbaik",IF(E6>=80,"Sangat Baik",IF(E6>=70,"Baik","Perlu Pembinaan")))) | G6: =IF(E6="","",RANK(E6,E:E,0))
A7: 6 | E7: =IF(B7="","",SUMIF('Form Penilaian'!B:B,B7,'Form Penilaian'!I:I)) | F7: =IF(E7="","",IF(E7>=90,"Kinerja Terbaik",IF(E7>=80,"Sangat Baik",IF(E7>=70,"Baik","Perlu Pembinaan")))) | G7: =IF(E7="","",RANK(E7,E:E,0))
A8: 7 | E8: =IF(B8="","",SUMIF('Form Penilaian'!B:B,B8,'Form Penilaian'!I:I)) | F8: =IF(E8="","",IF(E8>=90,"Kinerja Terbaik",IF(E8>=80,"Sangat Baik",IF(E8>=70,"Baik","Perlu Pembinaan")))) | G8: =IF(E8="","",RANK(E8,E:E,0))
A9: 8 | E9: =IF(B9="","",SUMIF('Form Penilaian'!B:B,B9,'Form Penilaian'!I:I)) | F9: =IF(E9="","",IF(E9>=90,"Kinerja Terbaik",IF(E9>=80,"Sangat Baik",IF(E9>=70,"Baik","Perlu Pembinaan")))) | G9: =IF(E9="","",RANK(E9,E:E,0))
A10: 9 | E10: =IF(B10="","",SUMIF('Form Penilaian'!B:B,B10,'Form Penilaian'!I:I)) | F10: =IF(E10="","",IF(E10>=90,"Kinerja Terbaik",IF(E10>=80,"Sangat Baik",IF(E10>=70,"Baik","Perlu Pembinaan")))) | G10: =IF(E10="","",RANK(E10,E:E,0))
A11: 10 | E11: =IF(B11="","",SUMIF('Form Penilaian'!B:B,B11,'Form Penilaian'!I:I)) | F11: =IF(E11="","",IF(E11>=90,"Kinerja Terbaik",IF(E11>=80,"Sangat Baik",IF(E11>=70,"Baik","Perlu Pembinaan")))) | G11: =IF(E11="","",RANK(E11,E:E,0))
A12: 11 | E12: =IF(B12="","",SUMIF('Form Penilaian'!B:B,B12,'Form Penilaian'!I:I)) | F12: =IF(E12="","",IF(E12>=90,"Kinerja Terbaik",IF(E12>=80,"Sangat Baik",IF(E12>=70,"Baik","Perlu Pembinaan")))) | G12: =IF(E12="","",RANK(E12,E:E,0))
A13: 12 | E13: =IF(B13="","",SUMIF('Form Penilaian'!B:B,B13,'Form Penilaian'!I:I)) | F13: =IF(E13="","",IF(E13>=90,"Kinerja Terbaik",IF(E13>=80,"Sangat Baik",IF(E13>=70,"Baik","Perlu Pembinaan")))) | G13: =IF(E13="","",RANK(E13,E:E,0))
... A201: 200 | E201: =IF(B201="","",SUMIF('Form Penilaian'!B:B,B201,'Form Penilaian'!I:I)) | F201: =IF(E201="","",IF(E201>=90,"Kinerja Terbaik",IF(E201>=80,"Sangat Baik",IF(E201>=70,"Baik","Perlu Pembinaan")))) | G201: =IF(E201="","",RANK(E201,E:E,0))

Sheet Dashboard Direktur
A1: DASHBOARD e-PERFORMANCE DIREKTORAT
A2: Indikator | B2: Nilai
A3: Jumlah Pegawai | B3: =COUNTA('Rekap Kinerja'!B2:B201) -> 0
A4: Rata-rata Kinerja | B4: =ROUND(AVERAGE('Rekap Kinerja'!E2:E201),2) -> #DIV/0!
A5: Jumlah Kinerja Terbaik | B5: =COUNTIF('Rekap Kinerja'!F:F,"Kinerja Terbaik") -> 0
A7: Kinerja Terbaik | B7: =COUNTIF('Rekap Kinerja'!F:F,A7) -> 0
A8: Sangat Baik | B8: =COUNTIF('Rekap Kinerja'!F:F,A8) -> 0
A9: Baik | B9: =COUNTIF('Rekap Kinerja'!F:F,A9) -> 0
A10: Perlu Pembinaan | B10: =COUNTIF('Rekap Kinerja'!F:F,A10) -> 0
A14: TOP 10 DIREKTORAT
A15: Ranking | B15: Nama | C15: Unit | D15: Nilai
A16: 1 | B16: =IFERROR(INDEX('Rekap Kinerja'!C:C,MATCH(A16,'Rekap Kinerja'!G:G,0)),"") | C16: =IFERROR(INDEX('Rekap Kinerja'!D:D,MATCH(A16,'Rekap Kinerja'!G:G,0)),"") | D16: =IFERROR(INDEX('Rekap Kinerja'!E:E,MATCH(A16,'Rekap Kinerja'!G:G,0)),"")
A17: 2 | B17: =IFERROR(INDEX('Rekap Kinerja'!C:C,MATCH(A17,'Rekap Kinerja'!G:G,0)),"") | C17: =IFERROR(INDEX('Rekap Kinerja'!D:D,MATCH(A17,'Rekap Kinerja'!G:G,0)),"") | D17: =IFERROR(INDEX('Rekap Kinerja'!E:E,MATCH(A17,'Rekap Kinerja'!G:G,0)),"")
A18: 3 | B18: =IFERROR(INDEX('Rekap Kinerja'!C:C,MATCH(A18,'Rekap Kinerja'!G:G,0)),"") | C18: =IFERROR(INDEX('Rekap Kinerja'!D:D,MATCH(A18,'Rekap Kinerja'!G:G,0)),"") | D18: =IFERROR(INDEX('Rekap Kinerja'!E:E,MATCH(A18,'Rekap Kinerja'!G:G,0)),"")
A19: 4 | B19: =IFERROR(INDEX('Rekap Kinerja'!C:C,MATCH(A19,'Rekap Kinerja'!G:G,0)),"") | C19: =IFERROR(INDEX('Rekap Kinerja'!D:D,MATCH(A19,'Rekap Kinerja'!G:G,0)),"") | D19: =IFERROR(INDEX('Rekap Kinerja'!E:E,MATCH(A19,'Rekap Kinerja'!G:G,0)),"")
A20: 5 | B20: =IFERROR(INDEX('Rekap Kinerja'!C:C,MATCH(A20,'Rekap Kinerja'!G:G,0)),"") | C20: =IFERROR(INDEX('Rekap Kinerja'!D:D,MATCH(A20,'Rekap Kinerja'!G:G,0)),"") | D20: =IFERROR(INDEX('Rekap Kinerja'!E:E,MATCH(A20,'Rekap Kinerja'!G:G,0)),"")
A21: 6 | B21: =IFERROR(INDEX('Rekap Kinerja'!C:C,MATCH(A21,'Rekap Kinerja'!G:G,0)),"") | C21: =IFERROR(INDEX('Rekap Kinerja'!D:D,MATCH(A21,'Rekap Kinerja'!G:G,0)),"") | D21: =IFERROR(INDEX('Rekap Kinerja'!E:E,MATCH(A21,'Rekap Kinerja'!G:G,0)),"")
A22: 7 | B22: =IFERROR(INDEX('Rekap Kinerja'!C:C,MATCH(A22,'Rekap Kinerja'!G:G,0)),"") | C22: =IFERROR(INDEX('Rekap Kinerja'!D:D,MATCH(A22,'Rekap Kinerja'!G:G,0)),"") | D22: =IFERROR(INDEX('Rekap Kinerja'!E:E,MATCH(A22,'Rekap Kinerja'!G:G,0)),"")
A23: 8 | B23: =IFERROR(INDEX('Rekap Kinerja'!C:C,MATCH(A23,'Rekap Kinerja'!G:G,0)),"") | C23: =IFERROR(INDEX('Rekap Kinerja'!D:D,MATCH(A23,'Rekap Kinerja'!G:G,0)),"") | D23: =IFERROR(INDEX('Rekap Kinerja'!E:E,MATCH(A23,'Rekap Kinerja'!G:G,0)),"")
A24: 9 | B24: =IFERROR(INDEX('Rekap Kinerja'!C:C,MATCH(A24,'Rekap Kinerja'!G:G,0)),"") | C24: =IFERROR(INDEX('Rekap Kinerja'!D:D,MATCH(A24,'Rekap Kinerja'!G:G,0)),"") | D24: =IFERROR(INDEX('Rekap Kinerja'!E:E,MATCH(A24,'Rekap Kinerja'!G:G,0)),"")
A25: 10 | B25: =IFERROR(INDEX('Rekap Kinerja'!C:C,MATCH(A25,'Rekap Kinerja'!G:G,0)),"") | C25: =IFERROR(INDEX('Rekap Kinerja'!D:D,MATCH(A25,'Rekap Kinerja'!G:G,0)),"") | D25: =IFERROR(INDEX('Rekap Kinerja'!E:E,MATCH(A25,'Rekap Kinerja'!G:G,0)),"")
A29: Tren Kinerja Triwulan
A30: Triwulan | B30: Nilai
A31: TW1 | B31: 0
A32: TW2 | B32: 0
A33: TW3 | B33: 0
A34: TW4 | B34: 0

Sheet Berita Acara
A1: BERITA ACARA PENETAPAN PENGELOLA DAN STAF DIREKTORAT BERKINERJA TERBAIK
A2: POLTEKKES KEMENKES SEMARANG
A4: Periode Triwulan:
A6: No | B6: Nama | C6: NIP | D6: Unit | E6: Nilai | F6: Predikat
A7: 1 | B7: =IFERROR(INDEX('Rekap Kinerja'!C:C,MATCH(A7,'Rekap Kinerja'!G:G,0)),"") | C7: =IFERROR(INDEX('Rekap Kinerja'!B:B,MATCH(A7,'Rekap Kinerja'!G:G,0)),"") | D7: =IFERROR(INDEX('Rekap Kinerja'!D:D,MATCH(A7,'Rekap Kinerja'!G:G,0)),"") | E7: =IFERROR(INDEX('Rekap Kinerja'!E:E,MATCH(A7,'Rekap Kinerja'!G:G,0)),"") | F7: =IFERROR(INDEX('Rekap Kinerja'!F:F,MATCH(A7,'Rekap Kinerja'!G:G,0)),"")
A8: 2 | B8: =IFERROR(INDEX('Rekap Kinerja'!C:C,MATCH(A8,'Rekap Kinerja'!G:G,0)),"") | C8: =IFERROR(INDEX('Rekap Kinerja'!B:B,MATCH(A8,'Rekap Kinerja'!G:G,0)),"") | D8: =IFERROR(INDEX('Rekap Kinerja'!D:D,MATCH(A8,'Rekap Kinerja'!G:G,0)),"") | E8: =IFERROR(INDEX('Rekap Kinerja'!E:E,MATCH(A8,'Rekap Kinerja'!G:G,0)),"") | F8: =IFERROR(INDEX('Rekap Kinerja'!F:F,MATCH(A8,'Rekap Kinerja'!G:G,0)),"")
A9: 3 | B9: =IFERROR(INDEX('Rekap Kinerja'!C:C,MATCH(A9,'Rekap Kinerja'!G:G,0)),"") | C9: =IFERROR(INDEX('Rekap Kinerja'!B:B,MATCH(A9,'Rekap Kinerja'!G:G,0)),"") | D9: =IFERROR(INDEX('Rekap Kinerja'!D:D,MATCH(A9,'Rekap Kinerja'!G:G,0)),"") | E9: =IFERROR(INDEX('Rekap Kinerja'!E:E,MATCH(A9,'Rekap Kinerja'!G:G,0)),"") | F9: =IFERROR(INDEX('Rekap Kinerja'!F:F,MATCH(A9,'Rekap Kinerja'!G:G,0)),"")
A10: 4 | B10: =IFERROR(INDEX('Rekap Kinerja'!C:C,MATCH(A10,'Rekap Kinerja'!G:G,0)),"") | C10: =IFERROR(INDEX('Rekap Kinerja'!B:B,MATCH(A10,'Rekap Kinerja'!G:G,0)),"") | D10: =IFERROR(INDEX('Rekap Kinerja'!D:D,MATCH(A10,'Rekap Kinerja'!G:G,0)),"") | E10: =IFERROR(INDEX('Rekap Kinerja'!E:E,MATCH(A10,'Rekap Kinerja'!G:G,0)),"") | F10: =IFERROR(INDEX('Rekap Kinerja'!F:F,MATCH(A10,'Rekap Kinerja'!G:G,0)),"")
A11: 5 | B11: =IFERROR(INDEX('Rekap Kinerja'!C:C,MATCH(A11,'Rekap Kinerja'!G:G,0)),"") | C11: =IFERROR(INDEX('Rekap Kinerja'!B:B,MATCH(A11,'Rekap Kinerja'!G:G,0)),"") | D11: =IFERROR(INDEX('Rekap Kinerja'!D:D,MATCH(A11,'Rekap Kinerja'!G:G,0)),"") | E11: =IFERROR(INDEX('Rekap Kinerja'!E:E,MATCH(A11,'Rekap Kinerja'!G:G,0)),"") | F11: =IFERROR(INDEX('Rekap Kinerja'!F:F,MATCH(A11,'Rekap Kinerja'!G:G,0)),"")
A12: 6 | B12: =IFERROR(INDEX('Rekap Kinerja'!C:C,MATCH(A12,'Rekap Kinerja'!G:G,0)),"") | C12: =IFERROR(INDEX('Rekap Kinerja'!B:B,MATCH(A12,'Rekap Kinerja'!G:G,0)),"") | D12: =IFERROR(INDEX('Rekap Kinerja'!D:D,MATCH(A12,'Rekap Kinerja'!G:G,0)),"") | E12: =IFERROR(INDEX('Rekap Kinerja'!E:E,MATCH(A12,'Rekap Kinerja'!G:G,0)),"") | F12: =IFERROR(INDEX('Rekap Kinerja'!F:F,MATCH(A12,'Rekap Kinerja'!G:G,0)),"")
A13: 7 | B13: =IFERROR(INDEX('Rekap Kinerja'!C:C,MATCH(A13,'Rekap Kinerja'!G:G,0)),"") | C13: =IFERROR(INDEX('Rekap Kinerja'!B:B,MATCH(A13,'Rekap Kinerja'!G:G,0)),"") | D13: =IFERROR(INDEX('Rekap Kinerja'!D:D,MATCH(A13,'Rekap Kinerja'!G:G,0)),"") | E13: =IFERROR(INDEX('Rekap Kinerja'!E:E,MATCH(A13,'Rekap Kinerja'!G:G,0)),"") | F13: =IFERROR(INDEX('Rekap Kinerja'!F:F,MATCH(A13,'Rekap Kinerja'!G:G,0)),"")
A14: 8 | B14: =IFERROR(INDEX('Rekap Kinerja'!C:C,MATCH(A14,'Rekap Kinerja'!G:G,0)),"") | C14: =IFERROR(INDEX('Rekap Kinerja'!B:B,MATCH(A14,'Rekap Kinerja'!G:G,0)),"") | D14: =IFERROR(INDEX('Rekap Kinerja'!D:D,MATCH(A14,'Rekap Kinerja'!G:G,0)),"") | E14: =IFERROR(INDEX('Rekap Kinerja'!E:E,MATCH(A14,'Rekap Kinerja'!G:G,0)),"") | F14: =IFERROR(INDEX('Rekap Kinerja'!F:F,MATCH(A14,'Rekap Kinerja'!G:G,0)),"")
A15: 9 | B15: =IFERROR(INDEX('Rekap Kinerja'!C:C,MATCH(A15,'Rekap Kinerja'!G:G,0)),"") | C15: =IFERROR(INDEX('Rekap Kinerja'!B:B,MATCH(A15,'Rekap Kinerja'!G:G,0)),"") | D15: =IFERROR(INDEX('Rekap Kinerja'!D:D,MATCH(A15,'Rekap Kinerja'!G:G,0)),"") | E15: =IFERROR(INDEX('Rekap Kinerja'!E:E,MATCH(A15,'Rekap Kinerja'!G:G,0)),"") | F15: =IFERROR(INDEX('Rekap Kinerja'!F:F,MATCH(A15,'Rekap Kinerja'!G:G,0)),"")
A16: 10 | B16: =IFERROR(INDEX('Rekap Kinerja'!C:C,MATCH(A16,'Rekap Kinerja'!G:G,0)),"") | C16: =IFERROR(INDEX('Rekap Kinerja'!B:B,MATCH(A16,'Rekap Kinerja'!G:G,0)),"") | D16: =IFERROR(INDEX('Rekap Kinerja'!D:D,MATCH(A16,'Rekap Kinerja'!G:G,0)),"") | E16: =IFERROR(INDEX('Rekap Kinerja'!E:E,MATCH(A16,'Rekap Kinerja'!G:G,0)),"") | F16: =IFERROR(INDEX('Rekap Kinerja'!F:F,MATCH(A16,'Rekap Kinerja'!G:G,0)),"")
